BEGIN:VCALENDAR
VERSION:2.0
PRODID:SchoolNow
CALSCALE:GREGORIAN
BEGIN:VEVENT
UID:4aedbac6-6a36-11ef-b505-02e0d4c88f9f
DTSTAMP:20250307T155952Z
SUMMARY:August 6\, 2025 CDD Board Meeting
LOCATION:Microtel Inn & Suites by Wyndham Zephyrhills\, 7839 Gall Blvd.\, Z
 ephyrhills\, Florida 33541
URL;VALUE=URI:https://www.chapelcreekcdd.org/calendar/6517811/august-6-2025
 -cdd-board-meeting
DTSTART:20250806T210000Z
DTEND:20250806T220000Z
END:VEVENT
END:VCALENDAR
