BEGIN:VCALENDAR
VERSION:2.0
PRODID:SchoolNow
CALSCALE:GREGORIAN
BEGIN:VEVENT
UID:3a16a6b8-6a36-11ef-b98d-0afff2fcba5f
DTSTAMP:20250307T155945Z
SUMMARY:July 2\, 2025 CDD Board Meeting
LOCATION:Microtel Inn & Suites by Wyndham Zephyrhills\, 7839 Gall Blvd.\, Z
 ephyrhills\, Florida 33541
URL;VALUE=URI:https://www.chapelcreekcdd.org/calendar/6517810/july-2-2025-c
 dd-board-meeting
DTSTART:20250702T210000Z
DTEND:20250702T220000Z
END:VEVENT
END:VCALENDAR
