BEGIN:VCALENDAR
VERSION:2.0
PRODID:SchoolNow
CALSCALE:GREGORIAN
BEGIN:VEVENT
UID:24e10a5e-6a36-11ef-b099-0a58a9feac02
DTSTAMP:20250307T155936Z
SUMMARY:June 4\, 2025 CDD Board Meeting
LOCATION:Microtel Inn & Suites by Wyndham Zephyrhills\, 7839 Gall Blvd.\, Z
 ephyrhills\, Florida 33541
URL;VALUE=URI:https://www.chapelcreekcdd.org/calendar/6517808/june-4-2025-c
 dd-board-meeting
DTSTART:20250604T153000Z
DTEND:20250604T163000Z
END:VEVENT
END:VCALENDAR
