BEGIN:VCALENDAR
VERSION:2.0
PRODID:SchoolNow
CALSCALE:GREGORIAN
BEGIN:VEVENT
UID:13ad5eb8-6a36-11ef-b6ec-02b1d8f33087
DTSTAMP:20250501T183435Z
SUMMARY:CANCELLED: May 7\, 2025 CDD Board Meeting
LOCATION:Microtel Inn & Suites by Wyndham Zephyrhills\, 7839 Gall Blvd.\, Z
 ephyrhills\, Florida 33541
URL;VALUE=URI:https://www.chapelcreekcdd.org/calendar/6517807/may-7-2025-cd
 d-board-meeting
DTSTART:20250507T153000Z
DTEND:20250507T163000Z
END:VEVENT
END:VCALENDAR
