BEGIN:VCALENDAR
VERSION:2.0
PRODID:SchoolNow
CALSCALE:GREGORIAN
BEGIN:VEVENT
UID:f98aefaa-6a35-11ef-9fc9-02976be2a577
DTSTAMP:20250307T155921Z
SUMMARY:April 2\, 2025 CDD Board Meeting
LOCATION:Microtel Inn & Suites by Wyndham Zephyrhills\, 7839 Gall Blvd.\, Z
 ephyrhills\, Florida 33541
URL;VALUE=URI:https://www.chapelcreekcdd.org/calendar/6517806/april-2-2025-
 cdd-board-meeting
DTSTART:20250402T210000Z
DTEND:20250402T220000Z
END:VEVENT
END:VCALENDAR
