BEGIN:VCALENDAR
VERSION:2.0
PRODID:SchoolNow
CALSCALE:GREGORIAN
BEGIN:VEVENT
UID:e30e08fc-6a35-11ef-ac99-0a58a9feac02
DTSTAMP:20250226T225546Z
SUMMARY:March 5\, 2025 CDD Board Meeting
LOCATION:Microtel Inn & Suites by Wyndham Zephyrhills\, 7839 Gall Blvd.\, Z
 ephyrhills\, Florida 33541
URL;VALUE=URI:https://www.chapelcreekcdd.org/calendar/6517805/march-5-2024-
 cdd-board-meeting
DTSTART:20250305T163000Z
DTEND:20250305T173000Z
END:VEVENT
END:VCALENDAR
