BEGIN:VCALENDAR
VERSION:2.0
PRODID:SchoolNow
CALSCALE:GREGORIAN
BEGIN:VEVENT
UID:d2d8ea60-6a35-11ef-b046-0a58a9feac02
DTSTAMP:20250129T233307Z
SUMMARY:February 5\, 2025 CDD Board Meeting
LOCATION:Microtel Inn & Suites by Wyndham Zephyrhills\, 7839 Gall Blvd.\, Z
 ephyrhills\, Florida 33541
URL;VALUE=URI:https://www.chapelcreekcdd.org/calendar/6517804/february-5-20
 25-cdd-board-meeting
DTSTART:20250205T163000Z
DTEND:20250205T173000Z
ATTACH;FILENAME=CC_020525_AgendaPkg.pdf;FMTTYPE=application/pdf:https://cam
 pussuite-storage.s3.amazonaws.com/prod/1558850/0dcb6bc4-ea94-11e9-9458-0a2
 0d2c7fac4/2908393/350b7e14-de99-11ef-82ff-0edeb333297b/file/CC_020525_Agen
 daPkg.pdf
END:VEVENT
END:VCALENDAR
