BEGIN:VCALENDAR
VERSION:2.0
PRODID:SchoolNow
CALSCALE:GREGORIAN
BEGIN:VEVENT
UID:c21dbbb0-6a35-11ef-bcf4-0a58a9feac02
DTSTAMP:20241220T171056Z
SUMMARY:January Board Meeting CANCELED
URL;VALUE=URI:https://www.chapelcreekcdd.org/calendar/6517803/january-1-202
 5-cdd-board-meeting
DTSTART:20250101T163000Z
DTEND:20250101T173000Z
END:VEVENT
END:VCALENDAR
